BEGIN:VCALENDAR
VERSION:2.0
CALSCALE:GREGORIAN
PRODID:https://xkale.karlsruhe.de/db/termine/
METHOD:PUBLISH
BEGIN:VEVENT
UID:579953
ORGANIZER;CN=Hochschule für Musik :MAILTO:pressebuero@hfm-karlsruhe.de
LOCATION:Hochschule für Musik Karlsruhe, CampusOne, Wolfgang-Rihm-Forum
SUMMARY:Freiheit und Funktion von Kunst
DESCRIPTION;ENCODING=QUOTED-PRINTABLE:Teil 2: Vergangenheit=0D=0A=0D=0A    Wie es war =E2=80=93 und h=C3=A4tte sein k=C3
 =B6nnen    =0D=0A  Duell oder Duett von  =0D=0A     Astrid Dr=C3=B6se & Thomas Seed
 orf    =0D=0A  KIT Karlsruhe & HfM Karlsruhe  =0D=0A  =0D=0A     Matthias Bruhn    (HfG
  Karlsruhe)  =0D=0A     Julika Hing    Moderation  =0D=0A     Studierende der HfM K
 arlsruhe    =0D=0A  =0D=0A  Am Ausgang des 18. Jahrhunderts\, als die Franz=C3=B6sis
 che Revolution und ihre Folgen die bisherige Welt aus ihren Angeln zu heben
  drohte\, pl=C3=A4dierte Friedrich Schiller f=C3=BCr die Autonomie der Kunst
 : =E2=80=9Edenn die Kunst ist eine Tochter der Freiheit\, und von der Notwen
 digkeit der Geister\, nicht von der Notdurft der Materie will sie ihre Vorsc
 hrift emp=C2=ACfangen.=E2=80=9C Schiller fand begeisterte F=C3=BCrsprache\, 
 stie=C3=9F aber auch auf entr=C3=BCstete Kritik. =C3=9Cber seine Idee konnt
 e man vehement streiten =E2=80=93 und man kann es heute noch.  =0D=0A  =0D=0A  Eint
 ritt frei    Die Veranstaltung wird gef=C3=B6rdert durch die     Riemschnei
 der-Stiftung   =20
URL:https://xkale.karlsruhe.de/db/termine/musik/freiheit_und_funktion_von_kunst-1
CLASS:PUBLIC
DTSTART:20260522T193000
DTEND:
DTSTAMP:20260401T175553
CATEGORIES:Musik
ATTACH:https://xkale.karlsruhe.de/db/termine/musik/freiheit_und_funktion_von_kunst-1/file/icon_freiheit_2.jpg
END:VEVENT

END:VCALENDAR
