BEGIN:VCALENDAR
VERSION:2.0
CALSCALE:GREGORIAN
PRODID:https://xkale.karlsruhe.de/db/termine/
METHOD:PUBLISH
BEGIN:VEVENT
UID:579968
ORGANIZER;CN=Hochschule für Musik :MAILTO:pressebuero@hfm-karlsruhe.de
LOCATION:Hochschule für Musik Karlsruhe, CampusOne, Wolfgang-Rihm-Forum
SUMMARY:Freiheit und Funktion von Kunst
DESCRIPTION;ENCODING=QUOTED-PRINTABLE:Teil 3: Zukunft=0D=0A=0D=0A    Wie es sein wird =E2=80=93 oder gewesen sein w=C3=BC
 rde    =0D=0A  Duell oder Duett von  =0D=0A     Charlotte Eifler & Leni Hoffmann   
  =0D=0A  HfG Karlsruhe & Kunstakademie Karlsruhe  =0D=0A     Matthias Bruhn    (HfG
  Karlsruhe)  =0D=0A     Delta Real Ensemble    =0D=0A     Julika Hing    Moderation
   =0D=0A     Studierende der PH Karlsruhe   =0D=0A   Studierende der HfM    =0D=0A  =0D=0A 
  Kunst erschlie=C3=9Ft gesellschaftliche R=C3=A4ume\, =C3=B6ffnet sie\, inter
 veniert in sie =E2=80=93 nicht nur\, um Bestehendes zu kommentieren\, sondern
  um M=C3=B6glichkeitsr=C3=A4ume zu entwerfen oder zu behaupten. In spekulat
 iven Zuk=C3=BCnften und k=C3=BCnstlerischen Utopien sollen Machtverh=C3=A4l
 tnisse sichtbar gemacht\, verschoben oder infrage gestellt werden. Freir=C3
 =A4ume sollen dort entstehen\, wo die Gegenwart noch keinen Platz f=C3=BCr s
 ie bereith=C3=A4lt. Doch wie wird man auf diese k=C3=BCnstlerischen Zukunft
 sentw=C3=BCrfe zur=C3=BCckblicken? Wird Kunst im Ringen um Freir=C3=A4ume i
 hre Freiheit aufgegeben haben =E2=80=93 oder auf eine andere Weise zu sich 
 selbst gekommen sein?     =0D=0A    =0D=0A  Eintritt frei    Die Veranstaltung wird
  gef=C3=B6rdert durch die     Riemschneider-Stiftung   =20
URL:https://xkale.karlsruhe.de/db/termine/musik/freiheit_und_funktion_von_kunst-2
CLASS:PUBLIC
DTSTART:20260605T193000
DTEND:
DTSTAMP:20260401T175554
CATEGORIES:Musik
ATTACH:https://xkale.karlsruhe.de/db/termine/musik/freiheit_und_funktion_von_kunst-2/file/icon_freiheit_3.jpg
END:VEVENT

END:VCALENDAR
