BEGIN:VCALENDAR
VERSION:2.0
CALSCALE:GREGORIAN
PRODID:https://xkale.karlsruhe.de/db/termine/
METHOD:PUBLISH
BEGIN:VEVENT
UID:581108
ORGANIZER;CN=Kammerorchester Weiherfeld e.V.:MAILTO:kontakt@kammerorchester-weiherfeld.de
LOCATION:Friedenskirche, Weiherfeld
SUMMARY:Frühjahrskonzert
DESCRIPTION;ENCODING=QUOTED-PRINTABLE:des Kammerorchester Weiherfeld e.V.=0D=0A=0D=0A  Fr=C3=BChjahrskonzert des Kammeror
 chester Weiherfeld. Unter der Leitung der Dirigentin Lydia Breuning erkling
 en lohnenswerte Neu- und Wiederentdeckungen f=C3=BCr Streichorchester.  =0D=0A 
  Wir beginnen mit den beiden ersten S=C3=A4tzen des  heiteren Divertimento 
 F-Dur KV 138 von Wolfgang Amadeus Mozart. Mit der =E2=80=9ESuite for String
 s=E2=80=9C des 1945 geborenen Briten John  Rutter wenden wir uns traditione
 llen Kl=C3=A4ngen in eing=C3=A4ngiger moderner  Deutung zu: Handelt es sich
  doch um eine k=C3=BCnstlerische Verarbeitung  bekannter und beliebter engl
 ischer Folksongs.  =0D=0A  Als Solistin an der Oboe spielt Elisa Rekers das =E2
 =80=9EAdagio f=C3=BCr Klarinette  und Streicher=E2=80=9C von Heinrich Baerm
 ann\, den im fr=C3=BChen 19. Jahrhundert der Bedarf an neuem musikalischem M
 aterial f=C3=BCr Klarinette zum Komponieren brachte. Zum Finale des Abends 
 erklingt die  operettenhafte =E2=80=9ESerenade for Strings=E2=80=9C des ame
 rikanischen Komponisten  Victor Herbert\, mit deren feinen Klangfarben der d
 amals 29-J=C3=A4hrige nach  der gefeierten Urauff=C3=BChrung 1888 seine ers
 ten anhaltenden Erfolge feiern  konnte.  =0D=0A  Der Eintritt zum Konzert des K
 ammerorchesters  Weiherfeld am 13. Mai in der Friedenskirche ist frei\, Spen
 den werden  erbeten. =20
URL:https://xkale.karlsruhe.de/db/termine/musik/fruhjahrskonzert-3
CLASS:PUBLIC
DTSTART:20260513T180000
DTEND:20260513T193000
DTSTAMP:20260422T093631
CATEGORIES:Musik
ATTACH:https://xkale.karlsruhe.de/db/termine/musik/fruhjahrskonzert-3/file/icon_Frühjahrskonzert-2026.jpg
END:VEVENT

END:VCALENDAR
