BEGIN:VCALENDAR
VERSION:2.0
CALSCALE:GREGORIAN
PRODID:https://xkale.karlsruhe.de/db/termine/
METHOD:PUBLISH
BEGIN:VEVENT
UID:579185
ORGANIZER;CN=marotte Theater:MAILTO:info@marotte-theater.de
LOCATION:marotte Theater
SUMMARY:Furzipups und Hicksi Huhn
DESCRIPTION;ENCODING=QUOTED-PRINTABLE:Premiere=0D=0A=0D=0A  Hicksi Huhn hat es nicht leicht. Immer dieser Schluckauf!  =0D=0A
   Doch der kleine Drache Furzipups will dem Huhn helfen. Er hat einige lust
 ige Ideen\, wie ein Schluckauf zu besiegen geht. Ob das klappt?  =0D=0A  Auf jed
 en Fall haben die Beiden viel Spa=C3=9F miteinander und werden richtig gute
  Freunde. =20
URL:https://xkale.karlsruhe.de/db/termine/musik/furzipups_und_hicksi_huhn
CLASS:PUBLIC
DTSTART:20260523T160000
DTEND:20260523T164500
DTSTAMP:20260407T115645
CATEGORIES:Theater, Tanz
ATTACH:https://xkale.karlsruhe.de/db/termine/theater/furzipups_und_hicksi_huhn/file/icon_IMG_20260327_120253_edit_623280025499681.jpg
END:VEVENT

END:VCALENDAR
