BEGIN:VCALENDAR
VERSION:2.0
CALSCALE:GREGORIAN
PRODID:https://xkale.karlsruhe.de/db/termine/
METHOD:PUBLISH
BEGIN:VEVENT
UID:578330
ORGANIZER;CN=Musik an der Christuskirche:MAILTO:kantorat@christuskirche-musik.de
LOCATION:Christuskirche Karlsruhe
SUMMARY:Galakonzert – Tenebrae
DESCRIPTION;ENCODING=QUOTED-PRINTABLE:Zu Gast in der Christuskirche | Galakonzert der F=C3=B6rdergesellschaft=0D=0A=0D=0A
   Werke von G. Allegri\, A. Bruckner\, J. MacMillan    G. Holst\, O. di Lasso\,
  O. Gibbons\, u.a.    Nigel Short\, Leitung    Konzert mit Eintritt. Tickets 
 unter www.reservix.de und an der Abendkasse. =20
URL:https://xkale.karlsruhe.de/db/termine/musik/galakonzert_tenebrae
CLASS:PUBLIC
DTSTART:20260625T200000
DTEND:
DTSTAMP:20260127T090022
CATEGORIES:Musik
ATTACH:https://xkale.karlsruhe.de/db/termine/musik/galakonzert_tenebrae/file/icon_Tenebrae Promotional Photo 1 - Credit Sim Canetty-Clarke.jpg
END:VEVENT

END:VCALENDAR
