BEGIN:VCALENDAR
VERSION:2.0
CALSCALE:GREGORIAN
PRODID:https://xkale.karlsruhe.de/db/termine/
METHOD:PUBLISH
BEGIN:VEVENT
UID:579960
ORGANIZER;CN=Hochschule für Musik :MAILTO:pressebuero@hfm-karlsruhe.de
LOCATION:Hochschule für Musik, Velte-Saal
SUMMARY:Gesang
DESCRIPTION;ENCODING=QUOTED-PRINTABLE:PRIMA Abend=0D=0A=0D=0A    Studierende der Klasse Prof. Christian Elsner   =0D=0A   =0D=0A 
    =0D=0A  Eintritt frei. =20
URL:https://xkale.karlsruhe.de/db/termine/musik/gesang-1
CLASS:PUBLIC
DTSTART:20260529T193000
DTEND:
DTSTAMP:20260401T175554
CATEGORIES:Musik
ATTACH:https://xkale.karlsruhe.de/db/termine/musik/gesang-1/file/icon_gesang_vogel.jpg
END:VEVENT

END:VCALENDAR
