BEGIN:VCALENDAR
VERSION:2.0
CALSCALE:GREGORIAN
PRODID:https://xkale.karlsruhe.de/db/termine/
METHOD:PUBLISH
BEGIN:VEVENT
UID:579411
ORGANIZER;CN=Hochschule für Musik :MAILTO:pressebuero@hfm-karlsruhe.de
LOCATION:Hochschule für Musik Karlsruhe, CampusOne, Wolfgang-Rihm-Forum
SUMMARY:Im Aufbruch
DESCRIPTION;ENCODING=QUOTED-PRINTABLE:Benefizkonzert des Freundeskreises=0D=0A=0D=0A  C=C3=A9sar     Franck    (1822-1890
 ) Violinsonate A-Dur     =0D=0A    Die Sonate von 1886 widmete Franck seinem Fr
 eund dem belgischen Komponisten und Geigenvirtuosen Eug=C3=A8ne Ysa=C3=BFe 
 als Hochzeitsgeschenk. Das wiegende Terzenthema des Kopfsatzes verkn=C3=BCp
 ft alle vier S=C3=A4tze dieser =C3=BCberaus beliebten Sonate miteinander.  
 =0D=0A     Prof. Christan Ostertag\, Violine   =0D=0A   Prof. Kalle Randalu\,    Klav
 ier    =0D=0A  Ernst von     Dohn=C3=A1nyi    (1877-1960)  =0D=0A  Sextett C-Dur op
 . 37 f=C3=BCr Klavier\, Violine\, Viola\, Violoncello\, Klarinette und Horn  =0D=0A
   Die Assoziationen\, die dieses Sextett bei H=C3=B6rern ausl=C3=B6st\, reich
 en von Mendelssohn =C3=BCber Gustav Mahler bis zu Jazzankl=C3=A4ngen im Fin
 ale.  =0D=0A     Prof. Christan Ostertag\,    Violine  =0D=0A     Rika Nakajima\,    
 Viola  =0D=0A     Leonardo Capezzali\,    Violoncello  =0D=0A     Prof. Julius Kirch
 er\,    Klarinette  =0D=0A     Leonie Fischer\,    Horn  =0D=0A     Leon Sundermeyer 
    \, Klavier  =0D=0A  =0D=0A  Tickets im VVK 5 =E2=82=AC\, um Spenden wird gebeten  
   Der Vorverkauf beginnt am 1. April. =20
URL:https://xkale.karlsruhe.de/db/termine/musik/im_aufbruch
CLASS:PUBLIC
DTSTART:20260423T193000
DTEND:
DTSTAMP:20260401T175552
CATEGORIES:Musik
ATTACH:https://xkale.karlsruhe.de/db/termine/musik/im_aufbruch/file/icon_aufbruch_copy.jpg
END:VEVENT

END:VCALENDAR
