BEGIN:VCALENDAR
VERSION:2.0
CALSCALE:GREGORIAN
PRODID:https://xkale.karlsruhe.de/db/termine/
METHOD:PUBLISH
BEGIN:VEVENT
UID:580038
ORGANIZER;CN=Hochschule für Musik :MAILTO:pressebuero@hfm-karlsruhe.de
LOCATION:Hochschule für Musik Karlsruhe, CampusOne, Wolfgang-Rihm-Forum
SUMMARY:IMWI Institutsabend
DESCRIPTION;ENCODING=QUOTED-PRINTABLE:Konzert=0D=0A=0D=0A  Konzert mit Elektronischer Musik\, Videokunst\, interaktiven Per
 formances und Installationen. Es werden Projekte von Studierenden und G=C3
 =A4sten des Instituts f=C3=BCr Musikinformatik und Musikwissenschaft vorges
 tellt\, die am ComputerStudio realisiert wurden.  =0D=0A     =0D=0A   Mitwirkende   
    =0D=0A   Studierende des Instituts f=C3=BCr Musikinformatik und Musikwissens
 chaft    =0D=0A  =0D=0A  Konzept     Prof. Damon Lee    =0D=0A  =0D=0A  Eintritt frei. =20
URL:https://xkale.karlsruhe.de/db/termine/musik/imwi_institutsabend
CLASS:PUBLIC
DTSTART:20260710T193000
DTEND:
DTSTAMP:20260401T175556
CATEGORIES:Musik
ATTACH:https://xkale.karlsruhe.de/db/termine/musik/imwi_institutsabend/file/icon_ringstudie.jpg
END:VEVENT

END:VCALENDAR
