BEGIN:VCALENDAR
VERSION:2.0
CALSCALE:GREGORIAN
PRODID:https://xkale.karlsruhe.de/db/termine/
METHOD:PUBLISH
BEGIN:VEVENT
UID:581175
ORGANIZER;CN=Messe-Karlsruhe Veranstaltungen:MAILTO:
LOCATION:Schwarzwaldhalle / Kongresszentrum Karlsruhe
SUMMARY:Johann König
DESCRIPTION;ENCODING=QUOTED-PRINTABLE:Heute ein K=C3=B6nig=0D=0A=0D=0A  Einlass: ca. 18:00 Uhr Beginn: 19:00 Uhr =20
URL:https://xkale.karlsruhe.de/db/termine/musik/johann_konig
CLASS:PUBLIC
DTSTART:20281119T000000
DTEND:20281120T000000
DTSTAMP:20260423T175602
CATEGORIES:Musik
ATTACH:https://xkale.karlsruhe.de/db/termine/
END:VEVENT

END:VCALENDAR
