BEGIN:VCALENDAR
VERSION:2.0
CALSCALE:GREGORIAN
PRODID:https://xkale.karlsruhe.de/db/termine/
METHOD:PUBLISH
BEGIN:VEVENT
UID:579951
ORGANIZER;CN=Hochschule für Musik :MAILTO:pressebuero@hfm-karlsruhe.de
LOCATION:Hochschule für Musik, Velte-Saal
SUMMARY:Klavier
DESCRIPTION;ENCODING=QUOTED-PRINTABLE:PRIMA Abend=0D=0A=0D=0A    Studierende der Klasse Prof. Dr. Anna Zassimova und Prof
 . Markus Stange   =0D=0A    Eintritt frei     =0D=0A   =0D=0A   =20
URL:https://xkale.karlsruhe.de/db/termine/musik/klavier-1
CLASS:PUBLIC
DTSTART:20260520T193000
DTEND:
DTSTAMP:20260401T175553
CATEGORIES:Musik
ATTACH:https://xkale.karlsruhe.de/db/termine/musik/klavier-1/file/icon_fluegelrot.jpg
END:VEVENT

END:VCALENDAR
