BEGIN:VCALENDAR
VERSION:2.0
CALSCALE:GREGORIAN
PRODID:https://xkale.karlsruhe.de/db/termine/
METHOD:PUBLISH
BEGIN:VEVENT
UID:579954
ORGANIZER;CN=Hochschule für Musik :MAILTO:pressebuero@hfm-karlsruhe.de
LOCATION:Hochschule für Musik, Velte-Saal
SUMMARY:Klavier
DESCRIPTION;ENCODING=QUOTED-PRINTABLE:PRIMA Abend=0D=0A=0D=0A    Studierende der Klassen Toomas Vana und Daniela Willimek
    =0D=0A   =0D=0A    Eintritt frei =20
URL:https://xkale.karlsruhe.de/db/termine/musik/klavier-2
CLASS:PUBLIC
DTSTART:20260526T193000
DTEND:
DTSTAMP:20260401T175553
CATEGORIES:Musik
ATTACH:https://xkale.karlsruhe.de/db/termine/musik/klavier-2/file/icon_fluegelrot.jpg
END:VEVENT

END:VCALENDAR
