BEGIN:VCALENDAR
VERSION:2.0
CALSCALE:GREGORIAN
PRODID:https://xkale.karlsruhe.de/db/termine/
METHOD:PUBLISH
BEGIN:VEVENT
UID:579964
ORGANIZER;CN=Hochschule für Musik :MAILTO:pressebuero@hfm-karlsruhe.de
LOCATION:Hochschule für Musik, Velte-Saal
SUMMARY:Klavier
DESCRIPTION;ENCODING=QUOTED-PRINTABLE:=C2=BBKonzentration und Kreativit=C3=A4t am Klavier=C2=AB=0D=0A=0D=0A  PRIMA Abend 
    Mitwirkende     Studierende der Klasse Prof. Sontraud Speidel & Prof. Ol
 ga Rissin-Morenova   =0D=0A   =0D=0A    Eintritt frei =20
URL:https://xkale.karlsruhe.de/db/termine/musik/klavier-4
CLASS:PUBLIC
DTSTART:20260602T183000
DTEND:
DTSTAMP:20260401T175554
CATEGORIES:Musik
ATTACH:https://xkale.karlsruhe.de/db/termine/musik/klavier-4/file/icon_klaviertasten.jpg
END:VEVENT

END:VCALENDAR
