BEGIN:VCALENDAR
VERSION:2.0
CALSCALE:GREGORIAN
PRODID:https://xkale.karlsruhe.de/db/termine/
METHOD:PUBLISH
BEGIN:VEVENT
UID:579976
ORGANIZER;CN=Hochschule für Musik :MAILTO:pressebuero@hfm-karlsruhe.de
LOCATION:Hochschule für Musik, Velte-Saal
SUMMARY:Klavier
DESCRIPTION;ENCODING=QUOTED-PRINTABLE:PRIMA Abend=0D=0A=0D=0A  Mitwirkende     Studierende der Klasse Prof. Denys Proshay
 ev   =0D=0A   =0D=0A    =0D=0A  Eintritt frei =20
URL:https://xkale.karlsruhe.de/db/termine/musik/klavier-5
CLASS:PUBLIC
DTSTART:20260617T193000
DTEND:
DTSTAMP:20260401T175554
CATEGORIES:Musik
ATTACH:https://xkale.karlsruhe.de/db/termine/musik/klavier-5/file/icon_klaviertasten.jpg
END:VEVENT

END:VCALENDAR
