BEGIN:VCALENDAR
VERSION:2.0
CALSCALE:GREGORIAN
PRODID:https://xkale.karlsruhe.de/db/termine/
METHOD:PUBLISH
BEGIN:VEVENT
UID:580201
ORGANIZER;CN=Hochschule für Musik :MAILTO:pressebuero@hfm-karlsruhe.de
LOCATION:FächerResidenz
SUMMARY:Klavierrezital
DESCRIPTION;ENCODING=QUOTED-PRINTABLE:Konzert=0D=0A=0D=0A    Riri Takeuchi    spielt die Sonate f=C3=BCr Klavier Nr. 7 D-
 Dur von Ludwig van     Beethoven    \, 3 Intermezzi op. 117 von Johannes    
  Brahms    \, =E2=80=9EVariationen zur Gesundung von Arinuska=E2=80=9C von A
 rvo     P=C3=A4rt    \, Sonate 1905 von Leo=C5=A1     Jan=C3=A1=C4=8Dek    u
 nd die Sonate f=C3=BCr Klavier Nr. 9 Op. 68 =E2=80=9ESchwarze Messe=E2=80
 =9C von Alexander     Skrjabin    .    Eintritt frei =20
URL:https://xkale.karlsruhe.de/db/termine/musik/klavierrezital-3
CLASS:PUBLIC
DTSTART:20260520T183000
DTEND:
DTSTAMP:20260407T112106
CATEGORIES:Musik
ATTACH:https://xkale.karlsruhe.de/db/termine/musik/klavierrezital-3/file/icon_klaviertasten.jpg
END:VEVENT

END:VCALENDAR
