BEGIN:VCALENDAR
VERSION:2.0
CALSCALE:GREGORIAN
PRODID:https://xkale.karlsruhe.de/db/termine/
METHOD:PUBLISH
BEGIN:VEVENT
UID:580202
ORGANIZER;CN=Hochschule für Musik :MAILTO:pressebuero@hfm-karlsruhe.de
LOCATION:Wohnstift Rüppurr
SUMMARY:Klavierrezital
DESCRIPTION;ENCODING=QUOTED-PRINTABLE:Konzert=0D=0A=0D=0A  Es spielt     Riri Takeuchi      Das Programm wird noch bekann
 tgegeben. =20
URL:https://xkale.karlsruhe.de/db/termine/musik/klavierrezital-4
CLASS:PUBLIC
DTSTART:20260521T183000
DTEND:
DTSTAMP:20260401T175553
CATEGORIES:Musik
ATTACH:https://xkale.karlsruhe.de/db/termine/musik/klavierrezital-4/file/icon_klaviertasten.jpg
END:VEVENT

END:VCALENDAR
