BEGIN:VCALENDAR
VERSION:2.0
CALSCALE:GREGORIAN
PRODID:https://xkale.karlsruhe.de/db/termine/
METHOD:PUBLISH
BEGIN:VEVENT
UID:579956
ORGANIZER;CN=Hochschule für Musik :MAILTO:pressebuero@hfm-karlsruhe.de
LOCATION:Hochschule für Musik Karlsruhe, CampusOne, Wolfgang-Rihm-Forum
SUMMARY:Komposition Klara Mlakar
DESCRIPTION;ENCODING=QUOTED-PRINTABLE:Zur guten Nacht=0D=0A=0D=0A  Solistenexamen    "Zur guten Nacht" =E2=80=93=C2=A0Ura
 uff=C3=BChrungen von Werken von Klara Mlakar      Studierende der Hochschul
 e f=C3=BCr Musik Karlsruhe   =0D=0A      Eintritt frei     =0D=0A   =20
URL:https://xkale.karlsruhe.de/db/termine/musik/komposition_klara_mlakar
CLASS:PUBLIC
DTSTART:20260527T193000
DTEND:
DTSTAMP:20260401T175553
CATEGORIES:Musik
ATTACH:https://xkale.karlsruhe.de/db/termine/musik/komposition_klara_mlakar/file/icon_mlakar_copy.jpg
END:VEVENT

END:VCALENDAR
