BEGIN:VCALENDAR
VERSION:2.0
CALSCALE:GREGORIAN
PRODID:https://xkale.karlsruhe.de/db/termine/
METHOD:PUBLISH
BEGIN:VEVENT
UID:579963
ORGANIZER;CN=Hochschule für Musik :MAILTO:pressebuero@hfm-karlsruhe.de
LOCATION:Hochschule für Musik, Velte-Saal
SUMMARY:Kontrabass
DESCRIPTION;ENCODING=QUOTED-PRINTABLE:PRIMA Abend=0D=0A=0D=0A    Studierende der Klasse Prof. Marcello Sung Hyuck Hong   
 =0D=0A    =0D=0A  Eintritt frei.     =0D=0A   =20
URL:https://xkale.karlsruhe.de/db/termine/musik/kontrabass
CLASS:PUBLIC
DTSTART:20260601T193000
DTEND:
DTSTAMP:20260311T175550
CATEGORIES:Musik
ATTACH:https://xkale.karlsruhe.de/db/termine/musik/kontrabass/file/icon_kontrabass_quadrat.jpg
END:VEVENT

END:VCALENDAR
