BEGIN:VCALENDAR
VERSION:2.0
CALSCALE:GREGORIAN
PRODID:https://xkale.karlsruhe.de/db/termine/
METHOD:PUBLISH
BEGIN:VEVENT
UID:578325
ORGANIZER;CN=Musik an der Christuskirche:MAILTO:kantorat@christuskirche-musik.de
LOCATION:Christuskirche Karlsruhe
SUMMARY:Landesjugendchor Baden-Württemberg
DESCRIPTION;ENCODING=QUOTED-PRINTABLE:Music on Demand - Petite Messe Solenelle - Gioachino Rossini=0D=0A=0D=0A  Carlotta 
 Lipski\, Sopran | Jasmin Hofmann\, Alt    Theo Rohde\, Tenor | Josua Bernbeck\,
  Bass    Jan-Hendrik Linssen\, Klavier | Hannes van Bargen\, Harmonium    Lan
 desjugendchor Baden-W=C3=BCrttemberg    Yuval Weinberg\, Leitung    Konzert 
 mit Eintritt. Tickets unter www.reservix.de und an der Abendkasse. =20
URL:https://xkale.karlsruhe.de/db/termine/musik/landesjugendchor_baden_wurttemberg
CLASS:PUBLIC
DTSTART:20260531T180000
DTEND:
DTSTAMP:20260127T085337
CATEGORIES:Musik
ATTACH:https://xkale.karlsruhe.de/db/termine/musik/landesjugendchor_baden_wurttemberg/file/icon_MOD Termin.jpg
END:VEVENT

END:VCALENDAR
