BEGIN:VCALENDAR
VERSION:2.0
CALSCALE:GREGORIAN
PRODID:https://xkale.karlsruhe.de/db/termine/
METHOD:PUBLISH
BEGIN:VEVENT
UID:580019
ORGANIZER;CN=Hochschule für Musik :MAILTO:pressebuero@hfm-karlsruhe.de
LOCATION:Hochschule für Musik, Velte-Saal
SUMMARY:Liedgestaltung
DESCRIPTION;ENCODING=QUOTED-PRINTABLE:PRIMA Abend=0D=0A=0D=0A  Studierende der Klasse Heike-Dorothee Allardt  =0D=0A  =0D=0A  Ein
 tritt frei. =20
URL:https://xkale.karlsruhe.de/db/termine/musik/liedgestaltung
CLASS:PUBLIC
DTSTART:20260629T193000
DTEND:
DTSTAMP:20260401T175555
CATEGORIES:Musik
ATTACH:https://xkale.karlsruhe.de/db/termine/musik/liedgestaltung/file/icon_gesang_vogel.jpg
END:VEVENT

END:VCALENDAR
