BEGIN:VCALENDAR
VERSION:2.0
CALSCALE:GREGORIAN
PRODID:https://xkale.karlsruhe.de/db/termine/
METHOD:PUBLISH
BEGIN:VEVENT
UID:579966
ORGANIZER;CN=Hochschule für Musik :MAILTO:pressebuero@hfm-karlsruhe.de
LOCATION:Hochschule für Musik, Velte-Saal
SUMMARY:PreCollege in concert
DESCRIPTION;ENCODING=QUOTED-PRINTABLE:PreCollege in Concert=0D=0A=0D=0A    Mitwirkende   =0D=0A    Studierende des PreCollege
 s der Hochschule f=C3=BCr Musik Karlsruhe     =0D=0A    =0D=0A  Konzept     Prof. R
 oberto Domingos und Prof. Dr. Anna Zassimova   =0D=0A    Eintritt frei.     =0D=0A 
   =20
URL:https://xkale.karlsruhe.de/db/termine/musik/precollege_in_concert
CLASS:PUBLIC
DTSTART:20260603T193000
DTEND:
DTSTAMP:20260401T175554
CATEGORIES:Musik
ATTACH:https://xkale.karlsruhe.de/db/termine/musik/precollege_in_concert/file/icon_logo_precollege2023_400_q.jpg
END:VEVENT

END:VCALENDAR
