BEGIN:VCALENDAR
VERSION:2.0
CALSCALE:GREGORIAN
PRODID:https://xkale.karlsruhe.de/db/termine/
METHOD:PUBLISH
BEGIN:VEVENT
UID:581226
ORGANIZER;CN=Substage Karlsruhe e.V.:MAILTO:info@substage.de
LOCATION:Substage Karlsruhe e.V.
SUMMARY:PROTEST THE HERO
DESCRIPTION;ENCODING=QUOTED-PRINTABLE:+ guests Tickets via reservix.de =C2=A0& eventim.de ab dem 27.4.2026 um 11:
 00 Uhr=0D=0A=0D=0A  1999 gr=C3=BCndeten die damals noch 14-j=C3=A4hrigen Sch=C3=BCl
 er Rody Walker\, Tim Millar\, Luke Hoskin\, Moe Carlson und Arif Mirabdolbaghi
  die Band unter dem Namen Happy Go Lucky. Mit der Ver=C3=B6ffentlichung ihr
 er ersten EP Search for the Truth im Jahre 2002 benannte sich die Band in P
 rotest the Hero um. W=C3=A4hrend der Wochenenden und der Ferien arbeiteten 
 die f=C3=BCnf Jugendlichen an weiteren Songs\, spielten erste Konzerte und e
 ine Tour. So erschien 2003 mit A Calculated Use of Sound eine weitere EP.  
 =0D=0A  Nach dem Gewinn des Canadian Independent Music Award in der Kategorie 
 =E2=80=9EFavourite Metal Artist/Group=E2=80=9C\, ver=C3=B6ffentlichte die Ba
 nd am 30. August 2005 ihr Deb=C3=BCtalbum Kezia\, welches erst am 4. M=C3=A4
 rz 2006 auch in den USA ebenfalls unter Vagrant Records erschien. Die Songt
 exte\, welche alle von Bassist Arif Mirabdolbaghi geschrieben worden waren\, 
 handelten von Kezia\, einer Frau\, die durch ein Erschie=C3=9Fungskommando hi
 ngerichtet wurde. Auff=C3=A4llig ist\, dass die Texte aus drei Perspektiven 
 geschrieben worden sind: der eines Priesters\, eines Gef=C3=A4ngnisw=C3=A4rt
 ers und Kezia selbst.  =0D=0A  Nach Ver=C3=B6ffentlichung des Albums tourte die
  Band mit bekannten Bands wie As I Lay Dying\, 3 Inches of Blood und Killswi
 tch Engage durch Kanada und die USA. Im September 2006 wurden bei einer Pol
 izeikontrolle bei Gitarrist Luke Hoskin ungef=C3=A4hr 0\,2=C2=A0g Marihuana 
 sichergestellt\, was ihn daran hinderte die Tour mit Trivium und The Sword w
 eiterzuf=C3=BChren. Er wurde bis Ende November 2006 kurzzeitig durch Marco 
 Bressette ersetzt. Im Januar 2008 erschien das zweite Album der Band unter 
 dem Namen Fortress\, mit dem sie den ersten Platz in den kanadischen Charts 
 erreichten und es f=C3=BCr eine Woche auf Platz 95 der Billboard 200 schaff
 ten. Ver=C3=B6ffentlicht wurde das Album\, wie der Vorg=C3=A4nger =C3=BCber 
 Vagrant Records. Die Texte stammten ebenfalls von Bassist Arif Mirabdolbagh
 i. Am 29. September 2009 ver=C3=B6ffentlichte die Band ihre erste Live-DVD 
 Gallop Meets the Earth\, auf der sich Konzert-Mitschnitte eines Auftrittes i
 n Toronto befanden. Am 22. M=C3=A4rz 2011 erschien das dritte Studioalbum S
 currilous =C3=BCber Vagrant Records. Auf ihrem am 2. November 2013 erschien
 enen Album Volition spielte Chris Adler von Lamb of God das Schlagzeug ein\,
  da Moe Carlson die Band zuvor verlassen hatte.[2] Voilition wurde bei den 
 Juno Awards 2014 mit einem Award in der Kategorie Metal/Hard Music Album of
  the Year ausgezeichnet.    Einlass: 18:00 Uhr    Altersfreigabe: ab 16 Jah
 ren =20
URL:https://xkale.karlsruhe.de/db/termine/musik/protest_the_hero
CLASS:PUBLIC
DTSTART:20260807T190000
DTEND:
DTSTAMP:20260424T175553
CATEGORIES:Musik
ATTACH:https://xkale.karlsruhe.de/db/termine/musik/protest_the_hero/file/icon_large-pth-2025-color.jpg
END:VEVENT

END:VCALENDAR
