BEGIN:VCALENDAR
VERSION:2.0
CALSCALE:GREGORIAN
PRODID:https://xkale.karlsruhe.de/db/termine/
METHOD:PUBLISH
BEGIN:VEVENT
UID:580010
ORGANIZER;CN=Hochschule für Musik :MAILTO:pressebuero@hfm-karlsruhe.de
LOCATION:Hochschule für Musik, Velte-Saal
SUMMARY:SchulmusikForum
DESCRIPTION;ENCODING=QUOTED-PRINTABLE:PRIMA Abend=0D=0A=0D=0A  Studierende der Schulmusik pr=C3=A4sentieren ein buntes Pr
 ogramm    Eintritt frei =20
URL:https://xkale.karlsruhe.de/db/termine/musik/schulmusikforum
CLASS:PUBLIC
DTSTART:20260622T193000
DTEND:
DTSTAMP:20260401T175554
CATEGORIES:Musik
ATTACH:https://xkale.karlsruhe.de/db/termine/musik/schulmusikforum/file/icon_schulmusik_q.jpg
END:VEVENT

END:VCALENDAR
