BEGIN:VCALENDAR
VERSION:2.0
CALSCALE:GREGORIAN
PRODID:https://xkale.karlsruhe.de/db/termine/
METHOD:PUBLISH
BEGIN:VEVENT
UID:579975
ORGANIZER;CN=Hochschule für Musik :MAILTO:pressebuero@hfm-karlsruhe.de
LOCATION:Hochschule für Musik Karlsruhe, CampusOne, Wolfgang-Rihm-Forum
SUMMARY:Schwanengesang
DESCRIPTION;ENCODING=QUOTED-PRINTABLE:Liederabend=0D=0A=0D=0A    Christoph Pr=C3=A9gardien\,    Tenor  =0D=0A     Prof. Hartmu
 t H=C3=B6ll\,    Klavier  =0D=0A  Werke von Franz     Schubert    und Henri     
 Duparc    =0D=0A  =0D=0A  Der Titel =E2=80=9ESchwanengesang=E2=80=9C\, unter dem der
  Wiener Verleger Franz     Schubert    s zwischen August und Oktober 1828 k
 omponierten vierzehn letzten Lieder nach Gedichten von Ludwig Rellstab\, Hei
 nrich Heine und einem von Johann Gabriel Seidl postum ver=C3=B6ffentlichte\,
  war eine kluge Marketingstrategie. Der Titel spielt auf den antiken Mythos
  an\, wonach der Schwan im Sterben seine Stimme zum Todesgesang erhebt. Dass
  Schubert die Lieder im Bewusstsein des nahen Todes komponiert habe\, war ei
 ne Legende\, geeignet\, kaufwillige Neugier beim Publikum hervorzurufen.  =0D=0A 
  =0D=0A  Henri     Duparc    (1845-1934) z=C3=A4hlt zu den unbestrittenen Meist
 ern der Melodie\, dieser franz=C3=B6sischen Form des deutschen Kunstliedes\, 
 und ist doch hierzulande fast noch ein Geheimtipp unter den franz=C3=B6sisc
 hen Liedkomponisten. Ein Grund d=C3=BCrfte die tragische Biografie des Komp
 onisten sein\, der bereits 1885 wegen eines Nervenleidens sein musikalisches
  Schaffen ganz aufgeben musste. Zudem war er ein extrem selbstkritischer Ko
 mponist\, der viele seiner Werke vernichtete. Seine wunderbaren\, aber gleich
 zeitig auch anspruchsvollen Lieder verlangen vom Interpreten sowohl Unbek
 =C3=BCmmertheit als auch Erfahrung\, sowohl Expressivit=C3=A4t als auch kont
 emplative Zur=C3=BCckhaltung. jpc  =0D=0A  =0D=0A  Tickets: 15 =E2=82=AC / 10 =E2
 =82=AC (erm)    Der Vorverkauf wird am 15. M=C3=A4rz freigeschaltet =20
URL:https://xkale.karlsruhe.de/db/termine/musik/schwanengesang
CLASS:PUBLIC
DTSTART:20260616T193000
DTEND:
DTSTAMP:20260401T175554
CATEGORIES:Musik
ATTACH:https://xkale.karlsruhe.de/db/termine/musik/schwanengesang/file/icon_schwanengesang_copy.jpg
END:VEVENT

END:VCALENDAR
