BEGIN:VCALENDAR
VERSION:2.0
CALSCALE:GREGORIAN
PRODID:https://xkale.karlsruhe.de/db/termine/
METHOD:PUBLISH
BEGIN:VEVENT
UID:581069
ORGANIZER;CN=Kammerorchester Collegium a Rhythmicum:MAILTO:
LOCATION:Evang. Lutherkirche Karlsruhe
SUMMARY:Sommerkonzert des Collegium a Rhythmicum
DESCRIPTION;ENCODING=QUOTED-PRINTABLE:Drei Wege Klassik\, Jazz und Volksmusik zu verbinden=0D=0A=0D=0A  Peter Lehel\, der r
 enommierte Karlsruher Saxophonist\, ist der Solist im Sommerkonzert des Coll
 egium a Rhythmicum. Er spielt eine eigene Komposition\, die Barocco Jazz Sui
 te\, die =E2=80=93 wie der Name schon ank=C3=BCndigt =E2=80=93 barocke und j
 azzige Elemente mit Tempo und Esprit verbindet. Das Prinzip\, traditionelle 
 Vorlagen mit neuem Leben zu f=C3=BCllen\, verwenden auch die beiden anderen 
 Komponisten des Abends: Der ungarische Komponist P=C3=A1l J=C3=A1rd=C3=A1ny
  greift auf Volksmusik zur=C3=BCck und gie=C3=9Ft wilde Bauernt=C3=A4nze in
  eine Sinfonie-Form. Er schmuggelt au=C3=9Ferdem noch ein paar jazzige Rhyt
 hmen hinein. Der Engl=C3=A4nder Hubert Parry orientiert sich an der barocke
 n Klangsprache\, beh=C3=A4lt aber die differenziertere Harmonik des 19. Jahr
 hunderts bei. Auch bei ihm finden volksmusikalische Melodien den Weg in die
  Musik\, die uns zu einem sommerlichen Abend auf dem englischen Land entf=C3
 =BChrt.    Peter Lehel\, Saxophon    Toni Reichl\, Leitung    P=C3=A1l J=C3
 =A1rd=C3=A1nyi (1920 - 1966): Sinfonietta f=C3=BCr Streicher  =0D=0A  Peter Leh
 el (*1965): Barocco Jazz Suite  =0D=0A  Jimmy Mc Hugh (1894 - 1969) / arr. Pete
 r Lehel: Say It (Over and Over Again)  =0D=0A  Richard Rodgers (1902 =E2=80=93 
 1979) / arr. Peter Lehel: It=E2=80=99s Easy to Remember  =0D=0A  Hubert Parry (
 1848 - 1918): An English Suite f=C3=BCr Streichorchester =20
URL:https://xkale.karlsruhe.de/db/termine/musik/sommerkonzert_des_collegium_a_rhythmicum
CLASS:PUBLIC
DTSTART:20260628T190000
DTEND:
DTSTAMP:20260422T094242
CATEGORIES:Musik
ATTACH:https://xkale.karlsruhe.de/db/termine/musik/sommerkonzert_des_collegium_a_rhythmicum/file/icon_CAR-1_2023.jpg
END:VEVENT

END:VCALENDAR
