BEGIN:VCALENDAR
VERSION:2.0
CALSCALE:GREGORIAN
PRODID:https://xkale.karlsruhe.de/db/termine/
METHOD:PUBLISH
BEGIN:VEVENT
UID:579967
ORGANIZER;CN=Hochschule für Musik :MAILTO:pressebuero@hfm-karlsruhe.de
LOCATION:Hochschule für Musik, Velte-Saal
SUMMARY:Tai-Wei Huang • Klavier
DESCRIPTION;ENCODING=QUOTED-PRINTABLE:Solistenexamen=0D=0A=0D=0A    =0D=0A    Eintritt frei.     =0D=0A   =20
URL:https://xkale.karlsruhe.de/db/termine/musik/tai_wei_huang_klavier
CLASS:PUBLIC
DTSTART:20260605T193000
DTEND:
DTSTAMP:20260401T175554
CATEGORIES:Musik
ATTACH:https://xkale.karlsruhe.de/db/termine/musik/tai_wei_huang_klavier/file/icon_huang_copy.jpg
END:VEVENT

END:VCALENDAR
