BEGIN:VCALENDAR
VERSION:2.0
CALSCALE:GREGORIAN
PRODID:https://xkale.karlsruhe.de/db/termine/
METHOD:PUBLISH
BEGIN:VEVENT
UID:578342
ORGANIZER;CN=Musik an der Christuskirche:MAILTO:kantorat@christuskirche-musik.de
LOCATION:Christuskirche Karlsruhe
SUMMARY:Verleih uns Frieden Gnädiglich
DESCRIPTION;ENCODING=QUOTED-PRINTABLE:Music on Demand=0D=0A=0D=0A  Werke von H. Sch=C3=BCtz (Geistliche Chormusik)\, D. Sc
 arlatti    Vocalensemble Rastatt | Kammerchor der Christuskirche    Holger 
 Speck und Peter Gortner\, Leitung    Konzert mit Eintritt. Tickets unter www
 .reservix.de und an der Abendkasse.  =0D=0A=20
URL:https://xkale.karlsruhe.de/db/termine/musik/verleih_uns_frieden_gnadiglich
CLASS:PUBLIC
DTSTART:20261108T180000
DTEND:
DTSTAMP:20260127T090407
CATEGORIES:Musik
ATTACH:https://xkale.karlsruhe.de/db/termine/musik/verleih_uns_frieden_gnadiglich/file/icon_MOD Termin.jpg
END:VEVENT

END:VCALENDAR
