BEGIN:VCALENDAR
VERSION:2.0
CALSCALE:GREGORIAN
PRODID:https://xkale.karlsruhe.de/db/termine/
METHOD:PUBLISH
BEGIN:VEVENT
UID:579973
ORGANIZER;CN=Hochschule für Musik :MAILTO:pressebuero@hfm-karlsruhe.de
LOCATION:Hochschule für Musik, Velte-Saal
SUMMARY:Viola
DESCRIPTION;ENCODING=QUOTED-PRINTABLE:PRIMA Abend=0D=0A=0D=0A    Studierende der Klasse Prof. Johannes L=C3=BCthy   =0D=0A   
    =0D=0A    Eintritt frei =20
URL:https://xkale.karlsruhe.de/db/termine/musik/viola-1
CLASS:PUBLIC
DTSTART:20260615T193000
DTEND:
DTSTAMP:20260311T175551
CATEGORIES:Musik
ATTACH:https://xkale.karlsruhe.de/db/termine/musik/viola-1/file/icon_bratsche.jpg
END:VEVENT

END:VCALENDAR
