BEGIN:VCALENDAR
VERSION:2.0
CALSCALE:GREGORIAN
PRODID:https://xkale.karlsruhe.de/db/termine/
METHOD:PUBLISH
BEGIN:VEVENT
UID:579955
ORGANIZER;CN=Hochschule für Musik :MAILTO:pressebuero@hfm-karlsruhe.de
LOCATION:Hochschule für Musik, Velte-Saal
SUMMARY:Violine
DESCRIPTION;ENCODING=QUOTED-PRINTABLE:PRIMA Abend=0D=0A=0D=0A    Studierende der Klasse Prof. Laurent Albrecht Breuninger
    =0D=0A    =0D=0A  Eintritt frei. =20
URL:https://xkale.karlsruhe.de/db/termine/musik/violine
CLASS:PUBLIC
DTSTART:20260527T193000
DTEND:
DTSTAMP:20260401T175553
CATEGORIES:Musik
ATTACH:https://xkale.karlsruhe.de/db/termine/musik/violine/file/icon_violine_web400.jpg
END:VEVENT

END:VCALENDAR
