BEGIN:VCALENDAR
VERSION:2.0
CALSCALE:GREGORIAN
PRODID:https://xkale.karlsruhe.de/db/termine/
METHOD:PUBLISH
BEGIN:VEVENT
UID:578344
ORGANIZER;CN=Musik an der Christuskirche:MAILTO:kantorat@christuskirche-musik.de
LOCATION:Christuskirche Karlsruhe
SUMMARY:WAR REQUIEM - Benjamin Britten
DESCRIPTION;ENCODING=QUOTED-PRINTABLE:75 Jahre Oratorienchor=0D=0A=0D=0A          Rebecca Blanz\, Sopran | Daniel Schreibe
 r\, Tenor    Hanno M=C3=BCller-Brachmann\, Bass-Bariton    Beethovenchor Ludw
 igshafen    M=C3=A4dchench=C3=B6re Cantus Juvenum Karlsruhe    Oratoriencho
 r Karlsruhe an der Christuskirche    Staatsphilharmonie Rheinland-Pfalz    
 Tristan Meister und Peter Gortner\, Leitung    Konzert mit Eintritt. Tickets
  unter www.reservix.de und an der Abendkasse.    Das Konzert wird am Tag zu
 vor (21. November) in Ludwigshafen am Rhein aufgef=C3=BChrt.  =0D=0A=20
URL:https://xkale.karlsruhe.de/db/termine/musik/war_requiem_benjamin_britten
CLASS:PUBLIC
DTSTART:20261122T180000
DTEND:
DTSTAMP:20260127T090451
CATEGORIES:Musik
ATTACH:https://xkale.karlsruhe.de/db/termine/musik/war_requiem_benjamin_britten/file/icon_zugastinderchristuskirche_kategorie-2.jpg
END:VEVENT

END:VCALENDAR
