BEGIN:VCALENDAR
VERSION:2.0
CALSCALE:GREGORIAN
PRODID:https://xkale.karlsruhe.de/db/termine/
METHOD:PUBLISH
BEGIN:VEVENT
UID:579970
ORGANIZER;CN=Hochschule für Musik :MAILTO:pressebuero@hfm-karlsruhe.de
LOCATION:Hochschule für Musik, Velte-Saal
SUMMARY:Yuriko Watanabe • Liedgestaltung Klavier
DESCRIPTION;ENCODING=QUOTED-PRINTABLE:Solistenexamen=0D=0A=0D=0A  Werke von Franz     Schubert    \, Gustav     Mahler    
 \, Richard     Wagner    u. a.  =0D=0A     Yajie Zhang\,    Mezzosopran  =0D=0A     B
 o Wang\,    Bassbariton     =0D=0A   =0D=0A    Eintritt frei.     =0D=0A   =20
URL:https://xkale.karlsruhe.de/db/termine/musik/yuriko_watanabe_liedgestaltung_klavier
CLASS:PUBLIC
DTSTART:20260613T170000
DTEND:
DTSTAMP:20260401T175554
CATEGORIES:Musik
ATTACH:https://xkale.karlsruhe.de/db/termine/musik/yuriko_watanabe_liedgestaltung_klavier/file/icon_watanabe.jpg
END:VEVENT

END:VCALENDAR
