BEGIN:VCALENDAR
VERSION:2.0
CALSCALE:GREGORIAN
PRODID:https://xkale.karlsruhe.de/db/termine/
METHOD:PUBLISH
BEGIN:VEVENT
UID:579974
ORGANIZER;CN=Hochschule für Musik :MAILTO:pressebuero@hfm-karlsruhe.de
LOCATION:Hochschule für Musik, Velte-Saal
SUMMARY:„Zwischen Traum und Majestät“
DESCRIPTION;ENCODING=QUOTED-PRINTABLE:FreundeskreisPERS=C3=96NLICH=0D=0A=0D=0A    Dr. h. c. Hans C. Hachmann    im Gespr
 =C3=A4ch mit       Christel Lee\,    Professorin f=C3=BCr Violine     =0D=0A    
 Christel Lee\, deren Familie koreanische Wurzeln hat\, wurde in Bloomington g
 eboren und begann im Alter von f=C3=BCnf Jahren in Vancouver\, Kanada\, mit d
 em Geigenspiel. Sp=C3=A4ter zog sie nach New York City\, besuchte die Profes
 sional children's School und schloss 2011 ihr Studium an der Juilliard Scho
 ol ab. Anschlie=C3=9Fend setzte sie ihre Ausbildung an der Kronberg Academy
  und an der Hochschule f=C3=BCr Musik und Theater M=C3=BCnchen bei Ana Chum
 achenco fort. 2015 gewann sie den ersten Preis beim internationalen Jean-Si
 belius-Violinwettbewerb in Helsinki und war damit die erste nordamerikanisc
 he Preistr=C3=A4gerin in der f=C3=BCnfzigj=C3=A4hrigen Geschichte des Wettb
 ewerbs.  =0D=0A  Als Solistin trat Christel Lee mit zahlreichen renommierten Or
 chestern auf u.a. mit dem Finnish Radio Symphony Orchestra\, dem Symphonieor
 chester des Bayerischen Rundfunks\, dem Tokyo Philharmonic und dem SWR Symph
 onieorchester Stuttgart. Zudem ist sie leidenschaftliche Kammermusikerin un
 d arbeitet regelm=C3=A4=C3=9Fig mit f=C3=BChrenden K=C3=BCnstler:innen ihre
 r Generation zusammen. Neben ihrer T=C3=A4tigkeit als Musikerin engagiert s
 ich lee intensiv in der Musikp=C3=A4dagogik und Nachwuchs-f=C3=B6rderung. S
 eit 2024 ist sie Professorin f=C3=BCr Violine an der Hochschule f=C3=BCr Mu
 sik Karlsruhe. Sie spielt eine Violine von Carlo Ferdinando Landolfi aus de
 m Jahr 1770\, die ihr gro=C3=9Fz=C3=BCgig aus einer privaten Sammlung zur Ve
 rf=C3=BCgung gestellt wird.     =0D=0A   =0D=0A    Veranstaltung des Freundeskreise
 s der Hochschule f=C3=BCr Musik Karlsruhe e. V.  =0D=0A  =0D=0A  Eintritt frei =20
URL:https://xkale.karlsruhe.de/db/termine/musik/zwischen_traum_und_majestat
CLASS:PUBLIC
DTSTART:20260616T180000
DTEND:
DTSTAMP:20260401T175554
CATEGORIES:Musik
ATTACH:https://xkale.karlsruhe.de/db/termine/musik/zwischen_traum_und_majestat/file/icon_christel_lee.jpg
END:VEVENT

END:VCALENDAR
