BEGIN:VCALENDAR
VERSION:2.0
CALSCALE:GREGORIAN
PRODID:https://xkale.karlsruhe.de/db/termine/
METHOD:PUBLISH
BEGIN:VEVENT
UID:580614
ORGANIZER;CN=Netzwerk Demenz Karlsruhe:MAILTO:vernetzung-demenz@sjb.karlsruhe.de
LOCATION:Zentrum für Kunst und Medien (ZKM)
SUMMARY:„Kaffee, Kuchen, Meerschweinchen“ – Museumsbesuch für Menschen mit Demenz und ihre Zugehörigen
DESCRIPTION;ENCODING=QUOTED-PRINTABLE:Ein Angebot des Netzwerk Demenz Karlsruhe=0D=0A=0D=0A  Copyright: ZKM l Zentrum f
 =C3=BCr Kunst und Medien\, Foto: Andy Koch    Anna Ziegler\, Gerontologin\, un
 d Birgit Gro=C3=9Fhans\, Ged=C3=A4chtnistrainerin laden ins ZKM ein.    Dort
  warten Boobons auf Sie: Flauschig\, neugierig und ein bisschen k=C3=BCnstli
 ch: Zehn interaktive Robotermeerschweinchen\, die auf Ber=C3=BChrung und Ans
 prache reagieren. Sie sind herzlich eingeladen\, diese ungew=C3=B6hnlichen k
 leinen Wesen zu erforschen und anschlie=C3=9Fend gemeinsam bei Kaffee und K
 uchen zusammenkommen.=C2=A0Die Teilnahme ist f=C3=BCr Sie kostenlos.      A
 nmeldung    beim Seniorenb=C3=BCro unter Telefon     0721 133-5022    oder 
  =0D=0A     seniorenbuero@sjb.karlsruhe.de    .  =0D=0A     Anmeldeschluss:    4. M
 ai  =0D=0A     Treffpunkt:    Im Foyer des ZKM vor den Kasse =20
URL:https://xkale.karlsruhe.de/db/termine/stadtleben/kaffee_kuchen_meerschweinchen_museumsbesuch
CLASS:PUBLIC
DTSTART:20260508T150000
DTEND:20260508T163000
DTSTAMP:20260331T120335
CATEGORIES:Stadtleben
ATTACH:https://xkale.karlsruhe.de/db/termine/stadtleben/kaffee_kuchen_meerschweinchen_museumsbesuch/file/icon_1_Bat-Booboo (002).jpg
END:VEVENT

END:VCALENDAR
