BEGIN:VCALENDAR
VERSION:2.0
CALSCALE:GREGORIAN
PRODID:https://xkale.karlsruhe.de/db/termine/
METHOD:PUBLISH
BEGIN:VEVENT
UID:577252
ORGANIZER;CN=Deutsch-Italienische Gesellschaft e.V. Karlsruhe:MAILTO:pronto@dig-Karlsruhe.eu
LOCATION:Centro = Schul- und Kulturzentrum der Deutsch-Italienischen Gesellschaft e.V. Karlsruhe
SUMMARY:Leggiamo i giornali
DESCRIPTION;ENCODING=QUOTED-PRINTABLE:Zeitungslekt=C3=BCre=0D=0A=0D=0A    Jeden Monat ein Mal\,       dienstags      von  
      10.00 Uhr bis 12 Uhr      im Centro\, Kaiserstra=C3=9Fe 150\, 76133 Karl
 sruhe (Stra=C3=9Fenbahnhaltestelle 'Europaplatz')          Rita Venturelli 
      und       Brigitte Dorner      lesen und besprechen mit Ihnen Artikel 
 aus italienischen und deutschen Zeitungen.          Una volta al mese - il 
 marted=C3=AC dalle 10.00 alle 12\,=C2=A0 nel Centro\, Kaiserstra=C3=9Fe 150\, 
 76133 Karlsruhe (fermata tram 'Europaplatz').              Rita Venturelli 
        und         Brigitte Dorner        leggono e commentano con voi arti
 coli dai quotidiani tedeschi ed italiani.     =20
URL:https://xkale.karlsruhe.de/db/termine/stadtleben/leggiamo_i_giornali-17
CLASS:PUBLIC
DTSTART:20260609T100000
DTEND:20260609T120000
DTSTAMP:20251215T080826
CATEGORIES:Stadtleben
ATTACH:https://xkale.karlsruhe.de/db/termine/stadtleben/leggiamo_i_giornali-17/file/icon_DIG_Signet-CMYK.jpg
END:VEVENT

END:VCALENDAR
