BEGIN:VCALENDAR
VERSION:2.0
CALSCALE:GREGORIAN
PRODID:https://xkale.karlsruhe.de/db/termine/
METHOD:PUBLISH
BEGIN:VEVENT
UID:580898
ORGANIZER;CN=Gartenbauamt Stadt Karlsruhe:MAILTO:oeffentlichkeitsarbeit@gba.karlsruhe.de
LOCATION:Helmholtz-Gymnasium Karlsruhe
SUMMARY:Planungsworkshop „PikoPark Kaiserallee“
DESCRIPTION;ENCODING=QUOTED-PRINTABLE:Mitmachen erw=C3=BCnscht=0D=0A=0D=0A  Das Gartenbauamt l=C3=A4dt alle interessierte
 n B=C3=BCrgerinnen und B=C3=BCrger herzlich zu einem offenen Planungsworksh
 op f=C3=BCr den neuen PikoPark auf der Gr=C3=BCnfl=C3=A4che vor der Christu
 skirche in der Kaiserallee ein.       Der Workshop wird gemeinsam mit Sch
 =C3=BClerinnen und Sch=C3=BClern des Helmholtz-Gymnasium Karlsruhe gestalte
 t.    Ein PikoPark ist ein naturnaher\, vielf=C3=A4ltiger Begegnungsraum\, de
 r die Artenvielfalt f=C3=B6rdert\, das Mikroklima verbessert und zugleich al
 s Erholungsort f=C3=BCr Menschen aller Altersgruppen dient. Auf einem Teil 
 der Gr=C3=BCnfl=C3=A4che sollen so durch heimische Bepflanzung\, schattenspe
 ndende B=C3=A4ume sowie biodiversit=C3=A4tsf=C3=B6rdernde Elemente wie Troc
 kenmauern\, Totholz und Sandlinsen wertvolle\, naturnahe Lebensr=C3=A4ume ent
 stehen.    Alle Interessierten sind eingeladen\, ihre Ideen einzubringen und
  die Gestaltung dieses neuen Stadtraums aktiv mitzupr=C3=A4gen.       Aufgr
 und begrenzter Platzkapazit=C3=A4t ist eine Teilnahme nur nach vorheriger A
 nmeldung m=C3=B6glich: naturoasen@gba.karlsruhe.de =20
URL:https://xkale.karlsruhe.de/db/termine/stadtleben/planungsworkshop_pikopark_kaiserallee
CLASS:PUBLIC
DTSTART:20260508T150000
DTEND:20260508T180000
DTSTAMP:20260416T122733
CATEGORIES:Stadtleben
ATTACH:https://xkale.karlsruhe.de/db/termine/stadtleben/planungsworkshop_pikopark_kaiserallee/file/icon_PikoPark_Kaiseralle_vorher_04.jpg
END:VEVENT

END:VCALENDAR
