BEGIN:VCALENDAR
VERSION:2.0
CALSCALE:GREGORIAN
PRODID:https://xkale.karlsruhe.de/db/termine/
METHOD:PUBLISH
BEGIN:VEVENT
UID:577265
ORGANIZER;CN=Deutsch-Italienische Gesellschaft e.V. Karlsruhe:MAILTO:pronto@dig-Karlsruhe.eu
LOCATION:Centro = Schul- und Kulturzentrum der Deutsch-Italienischen Gesellschaft e.V. Karlsruhe
SUMMARY:Salotto culturale
DESCRIPTION;ENCODING=QUOTED-PRINTABLE:F=C3=BCr die\, die schon Italienisch sprechen. / Per chi gi=C3=A0 parla ital
 iano.=0D=0A=0D=0A    Jeden Monat ein Mal\,       dienstags      von       10.00 Uhr 
 bis 12 Uhr      im Centro\, Kaiserstra=C3=9Fe 150\, 76133 Karlsruhe (Stra=C3
 =9Fenbahnhaltestelle 'Europaplatz')        In einem "runden Tisch" behandel
 t       Marcello Gallotti      das italienische Leben und kulturelle Themen
  aus allen Bereichen.          Una volta al mese - il marted=C3=AC dalle 10
 .00 alle 12\,=C2=A0 nel Centro\, Kaiserstra=C3=9Fe 150\, 76133 Karlsruhe (ferm
 ata tram 'Europaplatz').              Marcello Gallotti        in una tavol
 a rotonda tratta argomenti culturali e di attualit=C3=A0  italiana. L'ingre
 sso =C3=A8 libero ed aperto anche a chi non =C3=A8 socio.     =20
URL:https://xkale.karlsruhe.de/db/termine/stadtleben/salotto_culturale-17
CLASS:PUBLIC
DTSTART:20260728T100000
DTEND:20260728T120000
DTSTAMP:20251215T080828
CATEGORIES:Stadtleben
ATTACH:https://xkale.karlsruhe.de/db/termine/stadtleben/salotto_culturale-17/file/icon_DIG_Signet-CMYK.jpg
END:VEVENT

END:VCALENDAR
