BEGIN:VCALENDAR
VERSION:2.0
CALSCALE:GREGORIAN
PRODID:https://xkale.karlsruhe.de/db/termine/
METHOD:PUBLISH
BEGIN:VEVENT
UID:545590
ORGANIZER;CN=Marktamt der Stadt Karlsruhe:MAILTO:ma@karlsruhe.de
LOCATION:Marktplatz Durlach
SUMMARY:Wochenmarkt Durlach
DESCRIPTION;ENCODING=QUOTED-PRINTABLE:Marktzeiten: Montag bis Samstag vor dem Rathaus Durlach (an Feiertagen find
 et kein Wochenmarkt statt)=0D=0A=0D=0A  Der Markt auf dem Durlacher Marktplatz ist 
 einer der wenigen in Karlsruhe\, der t=C3=A4glich seine Kunden einl=C3=A4dt\,
  frisches Gem=C3=BCse und Obst zu kaufen. Immer montags bis samstags stehen
  die St=C3=A4nde mit ihrm Sortiment f=C3=BCr die Kundschaft bereit.  =0D=0A    
 =0D=0A    Mehr Informationen und Aktuelles unter www.karlsruhe.de/maerkte  =0D=0A 
 =20
URL:https://xkale.karlsruhe.de/db/termine/stadtleben/wochenmarkt_durlach
CLASS:PUBLIC
DTSTART:20251119T070000
DTEND:20501231T130000
DTSTAMP:20251118T140508
CATEGORIES:Stadtleben
ATTACH:https://xkale.karlsruhe.de/db/termine/stadtleben/wochenmarkt_durlach/file/icon_Bild_1.jpg
END:VEVENT

END:VCALENDAR
