BEGIN:VCALENDAR
VERSION:2.0
CALSCALE:GREGORIAN
PRODID:https://xkale.karlsruhe.de/db/termine/
METHOD:PUBLISH
BEGIN:VEVENT
UID:545594
ORGANIZER;CN=Marktamt der Stadt Karlsruhe:MAILTO:ma@karlsruhe.de
LOCATION:Kronenplatz
SUMMARY:Wochenmarkt Kronenplatz
DESCRIPTION;ENCODING=QUOTED-PRINTABLE:Marktzeiten: Montag bis Freitag von 9 bis 18.30 Uhr\, Samstag von 9 bis 16 U
 hr (an Feiertagen findet kein Wochenmarkt statt)=0D=0A=0D=0A  =0D=0A    Mehr Informatio
 nen und Aktuelles unter www.karlsruhe.de/maerkte  =0D=0A =20
URL:https://xkale.karlsruhe.de/db/termine/stadtleben/wochenmarkt_kronenplatz
CLASS:PUBLIC
DTSTART:20251119T090000
DTEND:20501231T183000
DTSTAMP:20251118T140858
CATEGORIES:Stadtleben
ATTACH:https://xkale.karlsruhe.de/db/termine/stadtleben/wochenmarkt_kronenplatz/file/icon_Kronen_06.jpg
END:VEVENT

END:VCALENDAR
