BEGIN:VCALENDAR
VERSION:2.0
CALSCALE:GREGORIAN
PRODID:https://xkale.karlsruhe.de/db/termine/
METHOD:PUBLISH
BEGIN:VEVENT
UID:545606
ORGANIZER;CN=Marktamt der Stadt Karlsruhe:MAILTO:ma@karlsruhe.de
LOCATION:Werderplatz
SUMMARY:Wochenmarkt Werderplatz
DESCRIPTION;ENCODING=QUOTED-PRINTABLE:Marktzeiten: Dienstag\, Freitag und Samstag (an Feiertagen findet kein Woche
 nmarkt statt)=0D=0A=0D=0A  Seit 1964 gibt es den Wochenmarkt auf dem Werderplatz in
  der Karlsruher S=C3=BCdstadt schon. Vor allem im Sommer bekommt der Markt 
 noch ein zus=C3=A4tzliches Flair. Dann n=C3=A4mlich k=C3=B6nnen die Besuche
 r nicht nur frische Ware einkaufen\, sie k=C3=B6nnen es sich nach dem Bummel
  auf dem Werderplatz auch am Brunnen und in einem der vielen Caf=C3=A9s und
  Kneipen rund um den Platz gem=C3=BCtlich machen.  =0D=0A    =0D=0A    Mehr Informa
 tionen und Aktuelles unter www.karlsruhe.de/maerkte =20
URL:https://xkale.karlsruhe.de/db/termine/stadtleben/wochenmarkt_werderplatz
CLASS:PUBLIC
DTSTART:20251119T073000
DTEND:20501227T130000
DTSTAMP:20251118T140823
CATEGORIES:Stadtleben
ATTACH:https://xkale.karlsruhe.de/db/termine/stadtleben/wochenmarkt_werderplatz/file/icon_kff018.jpg
END:VEVENT

END:VCALENDAR
