BEGIN:VCALENDAR
VERSION:2.0
CALSCALE:GREGORIAN
PRODID:https://xkale.karlsruhe.de/db/termine/
METHOD:PUBLISH
BEGIN:VEVENT
UID:580787
ORGANIZER;CN=Das Sandkorn - Theater und Mehr:MAILTO:info@das-sandkorn.de
LOCATION:Das Sandkorn Theater & Mehr
SUMMARY:D!E SP!NNER! Anschnallen bitte!
DESCRIPTION;ENCODING=QUOTED-PRINTABLE:Pleiten\, Pech und Pannen geben den besten Stoff f=C3=BCr am=C3=BCsante\, abe
 nteuerliche Urlaubsanekdoten.=0D=0A=0D=0A    Premiere der inklusiven Theatergruppe 
 von DAS SANDKORN und der Lebenshilfe Karlsruhe\, Ettlingen und Umgebung e.V.
       Auf Abenteuerreise begibt sich die Truppe in ihrem neuen Programm. Ab
 er da die Menschen bekanntlich verschieden sind\, fallen auch ihre Abenteuer
  entsprechend vielf=C3=A4ltig aus. W=C3=A4hrend f=C3=BCr einen mobilit=C3
 =A4tseingeschr=C3=A4nkten Menschen oft schon das Bahnfahren zu einem ungewo
 llt gro=C3=9Fen Abenteuer wird\, feiert der andere lieber in 2000 Metern =C3
 =BCber dem Abgrund Geburtstag. Pleiten\, Pech und Pannen geben den besten St
 off f=C3=BCr Urlaubsanekdoten. Und da\, wo es menschelt\, wird es oft besonde
 rs abenteuerlich. Eine Influencerin bereitet ihre Erlebnisse f=C3=BCr Socia
 l Media auf\, eine junge Frau und ein Rentner erleben Mikroabenteuer in ihre
 r Nachbarschaft. Und dass es nat=C3=BCrlich ein h=C3=B6chst am=C3=BCsantes 
 Abenteuer ist\, die unterschiedlichen Charaktere aufgrund von h=C3=B6herer G
 ewalt in ein Zugabteil einzusperren\, das k=C3=B6nnen Sie dann selbst erlebe
 n!    Es spielen Thorsten H. Decker\, Katharina Eggert\, Camilla H=C3=A4u=C3
 =9Fler\, Klaus Jockers\, Sabine Lampertsd=C3=B6rfer\, Clemens Lennermann\, Katj
 a Murr\, Anne Pelissier und Birk Spanger    Assistenz: Sonja Sch=C3=B6nhaar 
    hinter der B=C3=BChne: Katja Murr    FSJ: Nele Hagmann    pers=C3=B6nlic
 he Assistenz f=C3=BCr C. Lennermann: Esther Zeisset    Foto: Patrick Werner
  =20
URL:https://xkale.karlsruhe.de/db/termine/theater/de_spnner_anschnallen_bitte-3
CLASS:PUBLIC
DTSTART:20260612T190000
DTEND:
DTSTAMP:20260410T095723
CATEGORIES:Theater, Tanz
ATTACH:https://xkale.karlsruhe.de/db/termine/theater/de_spnner_anschnallen_bitte-3/file/icon_Spinner_K3A9195_2_er_8bit_quer_PatrickWerner_1.jpg
END:VEVENT

END:VCALENDAR
