BEGIN:VCALENDAR
VERSION:2.0
CALSCALE:GREGORIAN
PRODID:https://xkale.karlsruhe.de/db/termine/
METHOD:PUBLISH
BEGIN:VEVENT
UID:580719
ORGANIZER;CN=Badisch Bühn Mundarttheater:MAILTO:info@badisch-buehn.de
LOCATION:Badisch Bühn Mundarttheater
SUMMARY:E vornehme Bagasch
DESCRIPTION;ENCODING=QUOTED-PRINTABLE:Kom=C3=B6die von Holger Metzner=0D=0A=0D=0A  Das Publikum erwartet eine temporeiche
  Kom=C3=B6die =C3=BCber den Wahnsinn am Wohnungsmarkt:Isi und Rainer sind w
 irklich nicht die attraktivsten Mieter. Die beiden werden seit f=C3=BCnfzig
  Jahren von allen nur Easy&Rider genannt und sind noch waschechte Hippies. 
 Karriere und Haushalt haben sie nie so interessiert wie Gras\, Janis Joplin 
 und die freie Liebe. Dumm\, dass sie nach einer K=C3=BCndigung wegen Eigenbe
 darfs ihre gem=C3=BCtliche Wohnung verlassen m=C3=BCssen. Auf dem harten Ka
 rlsruher Mietmarkt h=C3=A4tten die verr=C3=BCckten Rentner eigentlich keine
  Chance\, wenn ihre Enkelin nicht kurzerhand ein Umstyling vorschlagen w=C3
 =BCrde. Aus den alternden Hippies wird ein verm=C3=B6gendes K=C3=BCnstlereh
 epaar mit eigener Galerie in New York. Und das geht sogar gut =E2=80=93 bis
  pl=C3=B6tzlich ihre ganze chaotische Familie mit in das schicke Appartemen
 t am Gutenbergplatz ziehen will.    Regie: Holger Metzner =20
URL:https://xkale.karlsruhe.de/db/termine/theater/e_vornehme_bagasch-13
CLASS:PUBLIC
DTSTART:20260627T201500
DTEND:20260627T221500
DTSTAMP:20260407T115612
CATEGORIES:Theater, Tanz
ATTACH:https://xkale.karlsruhe.de/db/termine/theater/e_vornehme_bagasch-13/file/icon_Bagasch_600x400_Motiv_Premiere.jpg
END:VEVENT

END:VCALENDAR
