BEGIN:VCALENDAR
VERSION:2.0
CALSCALE:GREGORIAN
PRODID:https://xkale.karlsruhe.de/db/termine/
METHOD:PUBLISH
BEGIN:VEVENT
UID:581070
ORGANIZER;CN=TanzAreal Karlsruhe:MAILTO:info@tanzareal.de
LOCATION:TanzAreal Karlsruhe
SUMMARY:Workshop von Julie Brochard
DESCRIPTION;ENCODING=QUOTED-PRINTABLE:Gegenwartskonzentrat - Angeleitete Tanzimprovisation=0D=0A=0D=0A  In diesem Worksho
 p gestalten wir Tanz aus dem Moment heraus\, mit Fokus darauf\, wie wir im Ra
 um pr=C3=A4sent sind. Wir sch=C3=A4rfen die Wahrnehmung von Feinheiten und 
 untereinander nicht abgesprochenen Dynamiken\, die beim Improvisieren entste
 hen. Wir erforschen\, wie unterschiedliche Bewegungsqualit=C3=A4ten in Bezie
 hung zueinander gesetzt werden k=C3=B6nnen. Gezielte Impulse und das Aktivi
 eren der Imagination helfen dabei\, eigenes Material zu generieren.  =0D=0A  Der
  Ansatz daf=C3=BCr ist spielerisch und minimalistisch: wenige\, pr=C3=A4zise
  Bewegungen k=C3=B6nnen schon eine gro=C3=9Fe Wirkung haben.  =0D=0A  Eine Einl
 adung\, mit Neugier das Unerwartete zu feiern.      INFO:      - Level: Open
  Level  =0D=0A  - Ort: TanzAreal Karlsruhe  =0D=0A  - Bitte bringt euch bequeme Kle
 idung und Wasser mit  =0D=0A  - Teilnahmegeb=C3=BChr: 20-30 Euro je nach eigene
 n Ressourcen  =0D=0A     - Anmeldung: bis=C2=A012.05.2026=C2=A0unter https://pr
 etix.eu/tanzareal/gegenwart/    =0D=0A  - Bei Fragen:=C2=A0workshop@tanzareal.d
 e      BIO:      Julie ist Kulturvermittlerin und Bildungsreferentin. Ihren
  Zugang zu zeitgen=C3=B6ssischem Tanz fand sie durch vielf=C3=A4ltige Works
 hops und das Sehen zahlreicher St=C3=BCcke. Zu ihrer Erfahrung in Karlsruhe
  z=C3=A4hlt u.a. das gemeinsame Anleiten eines Raumes f=C3=BCr zeitgen=C3
 =B6ssische Tanzimprovisation\, die Moderation von Nachgespr=C3=A4chen beim A
 toll Festival sowie die Erarbeitung eines Workshops am ZKM | Zentrum f=C3
 =BCr Kunst und Medien. Zuletzt wirkte sie bei St=C3=BCcken von cie .los als
  Performerin mit ("tour de l=E2=80=98ost"\, "advenTOUR"\, "under construction
 !").    Besonders interessant findet sie darstellende Kunst im =C3=B6ffentl
 ichen Raum und Projekte\, die sich nicht nur einem Bereich zuordnen lassen. 
 Ihre Inspiration findet sie meistens in der Sch=C3=B6nheit und der Absurdit
 =C3=A4t\, die sich in Alltagsmomenten verbergen. Sie arbeitet mit gro=C3=9Fe
 r Liebe zum Detail und tr=C3=A4gt im Herzen eine Komikfigur.      Foto: Ben
 jamin Breitkopf   =20
URL:https://xkale.karlsruhe.de/db/termine/theater/workshop_von_julie_brochard
CLASS:PUBLIC
DTSTART:20260516T140000
DTEND:20260516T160000
DTSTAMP:20260422T094607
CATEGORIES:Theater, Tanz
ATTACH:https://xkale.karlsruhe.de/db/termine/theater/workshop_von_julie_brochard/file/icon_Julie B_tourdelost_Foto Benjamin Breitkopf.jpg
END:VEVENT

END:VCALENDAR
