BEGIN:VCALENDAR
VERSION:2.0
CALSCALE:GREGORIAN
PRODID:https://xkale.karlsruhe.de/db/termine/
METHOD:PUBLISH
BEGIN:VEVENT
UID:580892
ORGANIZER;CN=Freundeskreis Botanischer Garten am KIT e.V.:MAILTO:kontakt@kit-gartenfreunde.de
LOCATION:KIT Botanischer Garten
SUMMARY:Botanische Führung: " Pflanzen schreiben Geschichte"
DESCRIPTION;ENCODING=QUOTED-PRINTABLE:Immer wieder haben Pflanzen die Geschichte der Menschheit gepr=C3=A4gt.=0D=0A=0D=0A
   Es war der Pfeffer\, der die Entdeckung Amerikas und damit die ganze Kolon
 ialisierung ausl=C3=B6ste.       Es waren Zuckerrohr und Baumwolle\, die\, la
 nge nach dem Mittelalter\, in der Neuen Welt die Sklaverei zur=C3=BCckbracht
 en\, was bis heute die Gesellschaft in den USA vergiftet.    Der Grund\, waru
 m China bis heute dem Westen mit Misstrauen begegnet\, hat mit zwei weiteren
  Pflanzen\, Schlafmohn und Tee\, zu tun. Kaffee hingegen stand Pate f=C3=BCr 
 den Aufstieg der Demokratie und die Weinrebe f=C3=BCr den Siegeszug des Bud
 dhismus in Ostasien.    Da Pflanzen unbeweglich sind\, trauen wir Menschen i
 hnen eine solche Wirkungsmacht selten zu. T=C3=A4uschen wir uns nicht!    R
 eferent: Prof. Dr. Peter Nick    Hinweis:=C2=A0Teilnehmerzahl ist begrenzt!
   =0D=0A  Anmeldung wird deshalb empfohlen unter: www.kit-gartenfreunde.de/vera
 nstaltungen =20
URL:https://xkale.karlsruhe.de/db/termine/wirtschaft/botanische_fuhrung_pflanzen_schreiben_geschichte
CLASS:PUBLIC
DTSTART:20260426T111500
DTEND:
DTSTAMP:20260415T101836
CATEGORIES:Wirtschaft, Wissenschaft
ATTACH:https://xkale.karlsruhe.de/db/termine/wirtschaft/botanische_fuhrung_pflanzen_schreiben_geschichte/file/icon_Bild_Fuehrung-PN.jpg
END:VEVENT

END:VCALENDAR
