BEGIN:VCALENDAR
VERSION:2.0
CALSCALE:GREGORIAN
PRODID:https://xkale.karlsruhe.de/db/termine/
METHOD:PUBLISH
BEGIN:VEVENT
UID:581118
ORGANIZER;CN=Karlsruher Institut für Technologie - Internationales (INTL):MAILTO:anna.moosmueller@kit.edu
LOCATION:Mensa Am Adenauerring (Universität, KIT), Karlsruhe
SUMMARY:Europäischen Austausch im Fokus
DESCRIPTION;ENCODING=QUOTED-PRINTABLE:Europatag am KIT=0D=0A=0D=0A    Europa ruft!    Vor der Mensa informiert DE  Intern
 ationales des KIT =C3=BCber die vielf=C3=A4ltigen M=C3=B6glichkeiten\, das  
 europ=C3=A4ische Ausland kennenzulernen.    Der Europatag bietet eine ideal
 e Plattform\, um sich =C3=BCber Erasmus+\,  Eucor\, deutsch-franz=C3=B6sische 
 Doppelabschlussprogramme oder EPICUR  auszutauschen\, pers=C3=B6nlich berate
 n zu lassen und neue Perspektiven zu  entdecken. Alle Fragen sind willkomme
 n! Dazu gibt es kostenfreien Kaffee  und Tee (bringt eure Tassen mit).     
  Au=C3=9Ferdem:      Europa auf dem Teller: Das Studierendenwerk bietet in 
 der Mensa vom  4. bis 8. Mai 2026 wechselnde Gerichte aus verschiedenen eur
 op=C3=A4ischen  L=C3=A4ndern an und l=C3=A4dt zu einer genussvollen Entdeck
 ungsreise durch Europa  ein.  =0D=0A=20
URL:https://xkale.karlsruhe.de/db/termine/wirtschaft/europaischen_austausch_im_fokus
CLASS:PUBLIC
DTSTART:20260508T113000
DTEND:20260508T140000
DTSTAMP:20260423T123448
CATEGORIES:Wirtschaft, Wissenschaft
ATTACH:https://xkale.karlsruhe.de/db/termine/wirtschaft/europaischen_austausch_im_fokus/file/icon_Europatag2026.jpg
END:VEVENT

END:VCALENDAR
