BEGIN:VCALENDAR
VERSION:2.0
CALSCALE:GREGORIAN
PRODID:https://xkale.karlsruhe.de/db/termine/
METHOD:PUBLISH
BEGIN:VEVENT
UID:580365
ORGANIZER;CN=Ring Politischer Jugend Karlsruhe e.V.:MAILTO:vorstand@rpj-karlsruhe.de
LOCATION:Karlshochschule International University
SUMMARY:Kommt jetzt Europas Moment?
DESCRIPTION;ENCODING=QUOTED-PRINTABLE:Podiumsdiskussion im Rahmen der Europawochen Karlsruhe=0D=0A=0D=0A  Das Forschungsp
 rojekt Future Democracies der Karlshochschule International University und 
 der Ring politischer Jugend Karlsruhe veranstalten gemeinsam mit den Junge 
 Europ=C3=A4ische F=C3=B6deralisten Karlsruhe und der Reinhold-Maier-Stiftun
 g eine Podiumsdiskussion zur Zukunft Europas.    Europa steht aktuell vor g
 ro=C3=9Fen Herausforderungen: au=C3=9Fenpolitisch\, gesellschaftlich und wir
 tschaftlich. Der russische Angriffskrieg gegen die Ukraine hat die europ=C3
 =A4ische Friedensordnung ersch=C3=BCttert und grundlegende Fragen nach Sich
 erheit\, Souver=C3=A4nit=C3=A4t und gemeinsamer Handlungsf=C3=A4higkeit neu 
 aufgeworfen. Gleichzeitig geraten zentrale Prinzipien des V=C3=B6lkerrechts
  wie territoriale Integrit=C3=A4t und staatliche Souver=C3=A4nit=C3=A4t zun
 ehmend unter Druck.  =0D=0A  In vielen Bereichen ist sp=C3=BCrbar\, dass Europa 
 enger zusammenr=C3=BCcken und seine Rolle in der Welt neu bestimmen muss. Z
 wischen weltweiten Spannungen\, wirtschaftlichen Abh=C3=A4ngigkeiten und inn
 eren politischen Konflikten stellt sich die Frage\, wie handlungsf=C3=A4hig 
 die Europ=C3=A4ische Union heute ist und was sie in Zukunft sein kann. Auch
  innerhalb der EU gibt es unterschiedliche Vorstellungen\, einzelne Staaten 
 stehen politisch vor einer ungewissen Zukunft im europ=C3=A4ischen Projekt.
   =0D=0A  Wie kann Europa in einer ver=C3=A4nderten Weltordnung souver=C3=A4ner
 \, handlungsf=C3=A4higer und geschlossener auftreten? Welche Rolle spielen D
 emokratie\, Rechtsstaatlichkeit und V=C3=B6lkerrecht f=C3=BCr seine Zukunft?
   =0D=0A  Diese Fragen wollen wir mit=C2=A0Tom H=C3=B8yem\, ehemaliger Minister 
 f=C3=BCr Gr=C3=B6nland in der d=C3=A4nischen Regierung und langj=C3=A4hrige
 r Direktor der Europ=C3=A4ischen Schule\,=C2=A0Prof. Dr. Nadja Meisterhans\, 
 Professorin f=C3=BCr Politische Philosophie mit einem aktuellen DFG-Forschu
 ngsprojekt zu Utopien\,=C2=A0Carina Perez\, stellvertretende Vorsitzende der 
 JEF Karlsruhe\, diskutieren =E2=80=93 und mit Ihnen! =20
URL:https://xkale.karlsruhe.de/db/termine/wirtschaft/kommt_jetzt_europas_moment
CLASS:PUBLIC
DTSTART:20260511T190000
DTEND:20260511T203000
DTSTAMP:20260423T123519
CATEGORIES:Wirtschaft, Wissenschaft
ATTACH:https://xkale.karlsruhe.de/db/termine/wirtschaft/kommt_jetzt_europas_moment/file/icon_Lambrecht Lesung.jpg
END:VEVENT

END:VCALENDAR
