BEGIN:VCALENDAR
VERSION:2.0
CALSCALE:GREGORIAN
PRODID:https://xkale.karlsruhe.de/db/termine/
METHOD:PUBLISH
BEGIN:VEVENT
UID:581112
ORGANIZER;CN=Freundeskreis Botanischer Garten am KIT e.V.:MAILTO:kontakt@kit-gartenfreunde.de
LOCATION:KIT Botanischer Garten
SUMMARY:Nicht nur die Bienen: wie Blüten bestäubt werden
DESCRIPTION;ENCODING=QUOTED-PRINTABLE:Botanische F=C3=BChrung=0D=0A=0D=0A  Bei dieser botanischen F=C3=BChrung entdecken 
 wir die erstaunliche Vielfalt der Best=C3=A4ubungsstrategien in der Pflanze
 nwelt. Denn nicht nur Bienen sorgen f=C3=BCr die Fortpflanzung von Bl=C3=BC
 tenpflanzen: Auch K=C3=A4fer\, Schmetterlinge\, V=C3=B6gel\, Flederm=C3=A4use 
 =E2=80=93 und sogar Wind und Wasser spielen eine wichtige Rolle.       Anha
 nd ausgew=C3=A4hlter Pflanzen erfahren Sie\, wie unterschiedlich Bl=C3=BCten
  aufgebaut sind\, welche Tricks sie einsetzen\, um ihre Best=C3=A4uber anzulo
 cken\, und warum diese Vielfalt f=C3=BCr unsere =C3=96kosysteme so entscheid
 end ist.    Eine spannende Reise in die verborgene Welt der Best=C3=A4ubung
 !       Referent: Dr. Max Seyfried    Hinweis: Teilnehmerzahl ist begrenzt!
 =C2=A0=C2=A0 Anmeldung wird deshalb empfohlen unter: www.kit-gartenfreunde.
 de/veranstaltungen =20
URL:https://xkale.karlsruhe.de/db/termine/wirtschaft/nicht_nur_die_bienen_wie_bluten_bestaubt_werden
CLASS:PUBLIC
DTSTART:20260510T111500
DTEND:
DTSTAMP:20260422T114757
CATEGORIES:Wirtschaft, Wissenschaft
ATTACH:https://xkale.karlsruhe.de/db/termine/wirtschaft/nicht_nur_die_bienen_wie_bluten_bestaubt_werden/file/icon_Bioblitz.jpg
END:VEVENT

END:VCALENDAR
